BEGIN:VCALENDAR
VERSION:2.0
PRODID:icalendar-ruby
CALSCALE:GREGORIAN
METHOD:PUBLISH
BEGIN:VEVENT
DTSTAMP:20260424T115349Z
UID:25-226047@419life.net
DTSTART;VALUE=DATE:20260615
DTEND;VALUE=DATE:20260620
CLASS:PUBLIC
CREATED:20260423T174458
DESCRIPTION:Mark your Calanders — Details coming soon!
LAST-MODIFIED:20260423T174458
LOCATION:
SUMMARY:Mission Devine
URL;VALUE=URI:https://mygfcmc.com/events/mission-devine/2026-06-15
ATTACH;FILENAME=Mission-Devine.png;FMTTYPE=image/png:https://dq5pwpg1q8ru0.
 cloudfront.net/2026/04/23/22/44/30/5bbeaa2d-cd03-4f0a-9325-f3764b181a86/Mi
 ssion-Devine.png
END:VEVENT
END:VCALENDAR
