BEGIN:VCALENDAR
VERSION:2.0
PRODID:icalendar-ruby
CALSCALE:GREGORIAN
METHOD:PUBLISH
BEGIN:VEVENT
DTSTAMP:20260422T015507Z
UID:7-224610@419life.net
DTSTART:20260816T150000Z
DTEND:20260816T161500Z
CLASS:PUBLIC
CREATED:20260421T200156
DESCRIPTION:Sunday Worship Service
LAST-MODIFIED:20260421T200156
LOCATION:801 Pearson St  Natalia TX 78059
SUMMARY:Sunday Worship Service
URL;VALUE=URI:https://mygfcmc.com/events/sunday-worship-service/2026-08-16
ATTACH;FILENAME=Feb4-3-Large.jpeg;FMTTYPE=image/jpeg:https://dq5pwpg1q8ru0.
 cloudfront.net/2024/02/18/04/15/22/78e9ec8c-4b12-461d-9866-550e3effd2b0/Fe
 b4-3-Large.jpeg
END:VEVENT
END:VCALENDAR
